BEGIN:VCALENDAR
VERSION:2.0
PRODID:-//Duke Of Connaught Lodge No. 64 - ECPv6.15.20//NONSGML v1.0//EN
CALSCALE:GREGORIAN
METHOD:PUBLISH
X-WR-CALNAME:Duke Of Connaught Lodge No. 64
X-ORIGINAL-URL:https://dukeofconnaught.com
X-WR-CALDESC:Events for Duke Of Connaught Lodge No. 64
REFRESH-INTERVAL;VALUE=DURATION:PT1H
X-Robots-Tag:noindex
X-PUBLISHED-TTL:PT1H
BEGIN:VTIMEZONE
TZID:America/Vancouver
BEGIN:DAYLIGHT
TZOFFSETFROM:-0800
TZOFFSETTO:-0700
TZNAME:PDT
DTSTART:20250309T100000
END:DAYLIGHT
BEGIN:STANDARD
TZOFFSETFROM:-0700
TZOFFSETTO:-0800
TZNAME:PST
DTSTART:20251102T090000
END:STANDARD
BEGIN:DAYLIGHT
TZOFFSETFROM:-0800
TZOFFSETTO:-0700
TZNAME:PDT
DTSTART:20260308T100000
END:DAYLIGHT
BEGIN:STANDARD
TZOFFSETFROM:-0700
TZOFFSETTO:-0800
TZNAME:PST
DTSTART:20261101T090000
END:STANDARD
BEGIN:DAYLIGHT
TZOFFSETFROM:-0800
TZOFFSETTO:-0700
TZNAME:PDT
DTSTART:20270314T100000
END:DAYLIGHT
BEGIN:STANDARD
TZOFFSETFROM:-0700
TZOFFSETTO:-0800
TZNAME:PST
DTSTART:20271107T090000
END:STANDARD
END:VTIMEZONE
BEGIN:VEVENT
DTSTART;TZID=America/Vancouver:20260204T193000
DTEND;TZID=America/Vancouver:20260204T230000
DTSTAMP:20260425T054035
CREATED:20251229T213253Z
LAST-MODIFIED:20260130T200505Z
UID:2709-1770233400-1770246000@dukeofconnaught.com
SUMMARY:Regular Business Meeting
DESCRIPTION:Regular BusinessEducation: TRY ME & PROVE ME! Visiting without being vouched for.
URL:https://dukeofconnaught.com/event/regular-business-meeting/
END:VEVENT
BEGIN:VEVENT
DTSTART;TZID=America/Vancouver:20260218T193000
DTEND;TZID=America/Vancouver:20260218T230000
DTSTAMP:20260425T054035
CREATED:20260130T201917Z
LAST-MODIFIED:20260130T201929Z
UID:2782-1771443000-1771455600@dukeofconnaught.com
SUMMARY:Emergent Meeting
DESCRIPTION:Education: I DIDN’T KNOW THAT! Lodge Officer Roles and Grand Line (exemplifying receiving the DDGM)
URL:https://dukeofconnaught.com/event/emergent-meeting/
END:VEVENT
BEGIN:VEVENT
DTSTART;TZID=America/Vancouver:20260228T113000
DTEND;TZID=America/Vancouver:20260228T173000
DTSTAMP:20260425T054035
CREATED:20251211T053802Z
LAST-MODIFIED:20251211T054848Z
UID:2681-1772278200-1772299800@dukeofconnaught.com
SUMMARY:GRAND MASTER'S OFFICIAL VISIT WITH DISTRICTS 17 & 25
DESCRIPTION:Read more: Emergent Meeting
URL:https://dukeofconnaught.com/event/grand-masters-official-visit-with-districts-17-25/
END:VEVENT
END:VCALENDAR